BEGIN:VCALENDAR
VERSION:2.0
METHOD:PUBLISH
X-WR-CALNAME:Vass Lajos Kamarakórus | 2014.03.03.-2014.04.02. | Szűrő\: 
PRODID:-//strange bird labs//Drupal iCal API//EN
BEGIN:VEVENT
DTSTAMP;VALUE=DATE-TIME:20260425T194855Z
DTSTART;VALUE=DATE-TIME:20140320T170000Z
DTEND;VALUE=DATE-TIME:20140320T170000Z
UID:http://vlkk.fw.hu/?q=node/399
URL;VALUE=URI:http://vlkk.fw.hu/?q=node/399
SUMMARY:A Vass Lajos Kamarakórus és a New Dublin Voices közös koncertje
DESCRIPTION:-
END:VEVENT
END:VCALENDAR
